BEGIN:VCALENDAR
VERSION:2.0
PRODID:-//CEIP Miguel Delibes San Sebastián de los Reyes - ECPv6.15.20//NONSGML v1.0//EN
CALSCALE:GREGORIAN
METHOD:PUBLISH
X-ORIGINAL-URL:https://colegiomigueldelibes.com
X-WR-CALDESC:Eventos para CEIP Miguel Delibes San Sebastián de los Reyes
REFRESH-INTERVAL;VALUE=DURATION:PT1H
X-Robots-Tag:noindex
X-PUBLISHED-TTL:PT1H
BEGIN:VTIMEZONE
TZID:Europe/Madrid
BEGIN:DAYLIGHT
TZOFFSETFROM:+0100
TZOFFSETTO:+0200
TZNAME:CEST
DTSTART:20250330T010000
END:DAYLIGHT
BEGIN:STANDARD
TZOFFSETFROM:+0200
TZOFFSETTO:+0100
TZNAME:CET
DTSTART:20251026T010000
END:STANDARD
BEGIN:DAYLIGHT
TZOFFSETFROM:+0100
TZOFFSETTO:+0200
TZNAME:CEST
DTSTART:20260329T010000
END:DAYLIGHT
BEGIN:STANDARD
TZOFFSETFROM:+0200
TZOFFSETTO:+0100
TZNAME:CET
DTSTART:20261025T010000
END:STANDARD
BEGIN:DAYLIGHT
TZOFFSETFROM:+0100
TZOFFSETTO:+0200
TZNAME:CEST
DTSTART:20270328T010000
END:DAYLIGHT
BEGIN:STANDARD
TZOFFSETFROM:+0200
TZOFFSETTO:+0100
TZNAME:CET
DTSTART:20271031T010000
END:STANDARD
END:VTIMEZONE
BEGIN:VEVENT
DTSTART;VALUE=DATE:20260423
DTEND;VALUE=DATE:20260424
DTSTAMP:20260423T174137
CREATED:20260406T205939Z
LAST-MODIFIED:20260406T205949Z
UID:238788-1776902400-1776988799@colegiomigueldelibes.com
SUMMARY:DÍA DEL LIBRO
DESCRIPTION:DÍA DEL LIBRO\nCUENTOS TRADICIONALES HANS CHRISTIAN ANDERSEN
URL:https://colegiomigueldelibes.com/calendario/dia-del-libro/
CATEGORIES:Actividades,Información
END:VEVENT
BEGIN:VEVENT
DTSTART;VALUE=DATE:20260427
DTEND;VALUE=DATE:20260428
DTSTAMP:20260423T174137
CREATED:20260406T205445Z
LAST-MODIFIED:20260406T205445Z
UID:238778-1777248000-1777334399@colegiomigueldelibes.com
SUMMARY:REUNIÓN DE PADRES EI 5 AÑOS
DESCRIPTION:REUNIÓN DE PADRES\nEI 5 AÑOS
URL:https://colegiomigueldelibes.com/calendario/reunion-de-padres-ei-5-anos/
CATEGORIES:Actividades,Información
END:VEVENT
BEGIN:VEVENT
DTSTART;VALUE=DATE:20260428
DTEND;VALUE=DATE:20260429
DTSTAMP:20260423T174137
CREATED:20260406T205601Z
LAST-MODIFIED:20260406T210121Z
UID:238784-1777334400-1777420799@colegiomigueldelibes.com
SUMMARY:REUNIÓN DE PADRES 1º EP
DESCRIPTION:REUNIÓN DE PADRES\n1º EP
URL:https://colegiomigueldelibes.com/calendario/reunion-de-padres-1o-ep/
CATEGORIES:Actividades,Información
END:VEVENT
BEGIN:VEVENT
DTSTART;VALUE=DATE:20260429
DTEND;VALUE=DATE:20260430
DTSTAMP:20260423T174137
CREATED:20260406T205515Z
LAST-MODIFIED:20260406T205515Z
UID:238780-1777420800-1777507199@colegiomigueldelibes.com
SUMMARY:REUNIÓN DE PADRES EI 4 AÑOS
DESCRIPTION:REUNIÓN DE PADRES\nEI 4 AÑOS
URL:https://colegiomigueldelibes.com/calendario/reunion-de-padres-ei-4-anos/
CATEGORIES:Actividades,Información
END:VEVENT
BEGIN:VEVENT
DTSTART;VALUE=DATE:20260430
DTEND;VALUE=DATE:20260501
DTSTAMP:20260423T174137
CREATED:20260406T205535Z
LAST-MODIFIED:20260406T205535Z
UID:238782-1777507200-1777593599@colegiomigueldelibes.com
SUMMARY:REUNIÓN DE PADRES EI 3 AÑOS
DESCRIPTION:REUNIÓN DE PADRES\nEI 3 AÑOS
URL:https://colegiomigueldelibes.com/calendario/reunion-de-padres-ei-3-anos/
CATEGORIES:Actividades,Información
END:VEVENT
END:VCALENDAR