BEGIN:VCALENDAR
VERSION:2.0
PRODID:-//CEIP Miguel Delibes San Sebastián de los Reyes - ECPv6.15.20//NONSGML v1.0//EN
CALSCALE:GREGORIAN
METHOD:PUBLISH
X-ORIGINAL-URL:https://colegiomigueldelibes.com
X-WR-CALDESC:Eventos para CEIP Miguel Delibes San Sebastián de los Reyes
REFRESH-INTERVAL;VALUE=DURATION:PT1H
X-Robots-Tag:noindex
X-PUBLISHED-TTL:PT1H
BEGIN:VTIMEZONE
TZID:Europe/Madrid
BEGIN:DAYLIGHT
TZOFFSETFROM:+0100
TZOFFSETTO:+0200
TZNAME:CEST
DTSTART:20240331T010000
END:DAYLIGHT
BEGIN:STANDARD
TZOFFSETFROM:+0200
TZOFFSETTO:+0100
TZNAME:CET
DTSTART:20241027T010000
END:STANDARD
BEGIN:DAYLIGHT
TZOFFSETFROM:+0100
TZOFFSETTO:+0200
TZNAME:CEST
DTSTART:20250330T010000
END:DAYLIGHT
BEGIN:STANDARD
TZOFFSETFROM:+0200
TZOFFSETTO:+0100
TZNAME:CET
DTSTART:20251026T010000
END:STANDARD
BEGIN:DAYLIGHT
TZOFFSETFROM:+0100
TZOFFSETTO:+0200
TZNAME:CEST
DTSTART:20260329T010000
END:DAYLIGHT
BEGIN:STANDARD
TZOFFSETFROM:+0200
TZOFFSETTO:+0100
TZNAME:CET
DTSTART:20261025T010000
END:STANDARD
END:VTIMEZONE
BEGIN:VEVENT
DTSTART;VALUE=DATE:20250108
DTEND;VALUE=DATE:20250109
DTSTAMP:20260424T174312
CREATED:20250109T190738Z
LAST-MODIFIED:20250109T190738Z
UID:238064-1736294400-1736380799@colegiomigueldelibes.com
SUMMARY:VUELTA DE VACACIONES
DESCRIPTION:VUELTA DE VACACIONES de Navidad\n  \n 
URL:https://colegiomigueldelibes.com/calendario/vuelta-de-vacaciones/
CATEGORIES:DÍA LECTIVO
END:VEVENT
END:VCALENDAR