BEGIN:VCALENDAR
VERSION:2.0
PRODID:-//CEIP Miguel Delibes San Sebastián de los Reyes - ECPv6.15.20//NONSGML v1.0//EN
CALSCALE:GREGORIAN
METHOD:PUBLISH
X-ORIGINAL-URL:https://colegiomigueldelibes.com
X-WR-CALDESC:Eventos para CEIP Miguel Delibes San Sebastián de los Reyes
REFRESH-INTERVAL;VALUE=DURATION:PT1H
X-Robots-Tag:noindex
X-PUBLISHED-TTL:PT1H
BEGIN:VTIMEZONE
TZID:Europe/Madrid
BEGIN:DAYLIGHT
TZOFFSETFROM:+0100
TZOFFSETTO:+0200
TZNAME:CEST
DTSTART:20240331T010000
END:DAYLIGHT
BEGIN:STANDARD
TZOFFSETFROM:+0200
TZOFFSETTO:+0100
TZNAME:CET
DTSTART:20241027T010000
END:STANDARD
BEGIN:DAYLIGHT
TZOFFSETFROM:+0100
TZOFFSETTO:+0200
TZNAME:CEST
DTSTART:20250330T010000
END:DAYLIGHT
BEGIN:STANDARD
TZOFFSETFROM:+0200
TZOFFSETTO:+0100
TZNAME:CET
DTSTART:20251026T010000
END:STANDARD
BEGIN:DAYLIGHT
TZOFFSETFROM:+0100
TZOFFSETTO:+0200
TZNAME:CEST
DTSTART:20260329T010000
END:DAYLIGHT
BEGIN:STANDARD
TZOFFSETFROM:+0200
TZOFFSETTO:+0100
TZNAME:CET
DTSTART:20261025T010000
END:STANDARD
END:VTIMEZONE
BEGIN:VEVENT
DTSTART;VALUE=DATE:20250203
DTEND;VALUE=DATE:20250205
DTSTAMP:20260424T125654
CREATED:20250204T193611Z
LAST-MODIFIED:20250204T194613Z
UID:238094-1738540800-1738713599@colegiomigueldelibes.com
SUMMARY:Salida Polideportivo 6º C y D EP
DESCRIPTION:Salida Polideportivo\n6º C y D EP
URL:https://colegiomigueldelibes.com/calendario/salida-polideportivo/
CATEGORIES:Actividades,Información
END:VEVENT
BEGIN:VEVENT
DTSTART;VALUE=DATE:20250203
DTEND;VALUE=DATE:20250208
DTSTAMP:20260424T125654
CREATED:20250204T193437Z
LAST-MODIFIED:20250204T193537Z
UID:238092-1738540800-1738972799@colegiomigueldelibes.com
SUMMARY:Semana Chinese New Year EI
DESCRIPTION:Semana Chinese New Year EI
URL:https://colegiomigueldelibes.com/calendario/semana-chinese-new-year-salida-polideportivo/
CATEGORIES:Actividades,Información
END:VEVENT
BEGIN:VEVENT
DTSTART;VALUE=DATE:20250210
DTEND;VALUE=DATE:20250215
DTSTAMP:20260424T125654
CREATED:20250204T194807Z
LAST-MODIFIED:20250204T194807Z
UID:238121-1739145600-1739577599@colegiomigueldelibes.com
SUMMARY:Semana Chinese New Year EP
DESCRIPTION:Semana Chinese New Year EP
URL:https://colegiomigueldelibes.com/calendario/semana-chinese-new-year-ep-2/
CATEGORIES:Actividades,Información
END:VEVENT
BEGIN:VEVENT
DTSTART;VALUE=DATE:20250212
DTEND;VALUE=DATE:20250213
DTSTAMP:20260424T125654
CREATED:20250204T193643Z
LAST-MODIFIED:20250204T193806Z
UID:238098-1739318400-1739404799@colegiomigueldelibes.com
SUMMARY:Taller familias EI 4 años
DESCRIPTION:Taller familias EI 4 años
URL:https://colegiomigueldelibes.com/calendario/semana-chinese-new-year-ep/
CATEGORIES:Actividades,Información
END:VEVENT
BEGIN:VEVENT
DTSTART;VALUE=DATE:20250213
DTEND;VALUE=DATE:20250214
DTSTAMP:20260424T125654
CREATED:20250204T193938Z
LAST-MODIFIED:20250204T193938Z
UID:238102-1739404800-1739491199@colegiomigueldelibes.com
SUMMARY:Teatro: “Around  the World” -  1º y 2º EP
DESCRIPTION:Teatro\n “Around the World” – 1º y 2º EP
URL:https://colegiomigueldelibes.com/calendario/teatro-around-the-world-1o-y-2o-ep/
CATEGORIES:Información,teatro
END:VEVENT
BEGIN:VEVENT
DTSTART;VALUE=DATE:20250219
DTEND;VALUE=DATE:20250220
DTSTAMP:20260424T125654
CREATED:20250204T194030Z
LAST-MODIFIED:20250204T194030Z
UID:238104-1739923200-1740009599@colegiomigueldelibes.com
SUMMARY:Salida Talleres IES Atenea. 6º EP
DESCRIPTION:Salida Talleres IES Atenea – 6º EP
URL:https://colegiomigueldelibes.com/calendario/salida-talleres-ies-atenea-6o-ep/
CATEGORIES:Actividades,Información,Salida
END:VEVENT
BEGIN:VEVENT
DTSTART;VALUE=DATE:20250220
DTEND;VALUE=DATE:20250221
DTSTAMP:20260424T125654
CREATED:20250204T194117Z
LAST-MODIFIED:20250204T194117Z
UID:238106-1740009600-1740095999@colegiomigueldelibes.com
SUMMARY:Insect Park EI 5 años
DESCRIPTION:Insect Park EI 5 años
URL:https://colegiomigueldelibes.com/calendario/insect-park-ei-5-anos/
CATEGORIES:Actividades,Información,Salida
END:VEVENT
BEGIN:VEVENT
DTSTART;VALUE=DATE:20250221
DTEND;VALUE=DATE:20250222
DTSTAMP:20260424T125654
CREATED:20250204T194218Z
LAST-MODIFIED:20250204T194218Z
UID:238108-1740096000-1740182399@colegiomigueldelibes.com
SUMMARY:Jornadas de PUERTAS ABIERTAS
DESCRIPTION:Jornadas de PUERTAS ABIERTAS
URL:https://colegiomigueldelibes.com/calendario/jornadas-de-puertas-abiertas/
CATEGORIES:Información
END:VEVENT
BEGIN:VEVENT
DTSTART;VALUE=DATE:20250225
DTEND;VALUE=DATE:20250226
DTSTAMP:20260424T125654
CREATED:20250204T194317Z
LAST-MODIFIED:20250204T194317Z
UID:238110-1740441600-1740527999@colegiomigueldelibes.com
SUMMARY:Salida Museo de Ciencias Naturales - 1º C y 1º D EP
DESCRIPTION:Salida Museo de Ciencias Naturales – 1º C y 1º D EP
URL:https://colegiomigueldelibes.com/calendario/salida-museo-de-ciencias-naturales-1o-c-y-1o-d-ep/
CATEGORIES:Actividades,Información,Salida
END:VEVENT
BEGIN:VEVENT
DTSTART;VALUE=DATE:20250226
DTEND;VALUE=DATE:20250227
DTSTAMP:20260424T125654
CREATED:20250204T194400Z
LAST-MODIFIED:20250204T194942Z
UID:238112-1740528000-1740614399@colegiomigueldelibes.com
SUMMARY:Salida Museo de Ciencias Naturales - 1º A y 1º B EP
DESCRIPTION:Salida Museo de Ciencias Naturales – 1º A y 1º B EP
URL:https://colegiomigueldelibes.com/calendario/salida-museo-de-ciencias-naturales-1o-b-y-1o-a-ep/
CATEGORIES:Actividades,Información,Salida
END:VEVENT
BEGIN:VEVENT
DTSTART;VALUE=DATE:20250227
DTEND;VALUE=DATE:20250228
DTSTAMP:20260424T125654
CREATED:20250204T194444Z
LAST-MODIFIED:20250204T194444Z
UID:238114-1740614400-1740700799@colegiomigueldelibes.com
SUMMARY:CARNAVAL
DESCRIPTION:CARNAVAL
URL:https://colegiomigueldelibes.com/calendario/carnaval-3/
CATEGORIES:Actividades,CELEBRACIÓN,Información
END:VEVENT
BEGIN:VEVENT
DTSTART;VALUE=DATE:20250228
DTEND;VALUE=DATE:20250301
DTSTAMP:20260424T125654
CREATED:20250204T194524Z
LAST-MODIFIED:20250204T194524Z
UID:238116-1740700800-1740787199@colegiomigueldelibes.com
SUMMARY:NO LECTIVO
DESCRIPTION:NO LECTIVO
URL:https://colegiomigueldelibes.com/calendario/no-lectivo-10/
CATEGORIES:Información,NO LECTIVO
END:VEVENT
END:VCALENDAR