BEGIN:VCALENDAR
VERSION:2.0
PRODID:-//CEIP Miguel Delibes San Sebastián de los Reyes - ECPv6.15.20//NONSGML v1.0//EN
CALSCALE:GREGORIAN
METHOD:PUBLISH
X-ORIGINAL-URL:https://colegiomigueldelibes.com
X-WR-CALDESC:Eventos para CEIP Miguel Delibes San Sebastián de los Reyes
REFRESH-INTERVAL;VALUE=DURATION:PT1H
X-Robots-Tag:noindex
X-PUBLISHED-TTL:PT1H
BEGIN:VTIMEZONE
TZID:Europe/Madrid
BEGIN:DAYLIGHT
TZOFFSETFROM:+0100
TZOFFSETTO:+0200
TZNAME:CEST
DTSTART:20240331T010000
END:DAYLIGHT
BEGIN:STANDARD
TZOFFSETFROM:+0200
TZOFFSETTO:+0100
TZNAME:CET
DTSTART:20241027T010000
END:STANDARD
BEGIN:DAYLIGHT
TZOFFSETFROM:+0100
TZOFFSETTO:+0200
TZNAME:CEST
DTSTART:20250330T010000
END:DAYLIGHT
BEGIN:STANDARD
TZOFFSETFROM:+0200
TZOFFSETTO:+0100
TZNAME:CET
DTSTART:20251026T010000
END:STANDARD
BEGIN:DAYLIGHT
TZOFFSETFROM:+0100
TZOFFSETTO:+0200
TZNAME:CEST
DTSTART:20260329T010000
END:DAYLIGHT
BEGIN:STANDARD
TZOFFSETFROM:+0200
TZOFFSETTO:+0100
TZNAME:CET
DTSTART:20261025T010000
END:STANDARD
END:VTIMEZONE
BEGIN:VEVENT
DTSTART;VALUE=DATE:20250401
DTEND;VALUE=DATE:20250402
DTSTAMP:20260424T101449
CREATED:20250403T121040Z
LAST-MODIFIED:20250403T121040Z
UID:238250-1743465600-1743551999@colegiomigueldelibes.com
SUMMARY:Salida ArqueoPinto 4º EP
DESCRIPTION:Salida ArqueoPinto\n4º EP
URL:https://colegiomigueldelibes.com/calendario/salida-arqueopinto-4o-ep/
CATEGORIES:Actividades,Información,Salida
END:VEVENT
BEGIN:VEVENT
DTSTART;VALUE=DATE:20250404
DTEND;VALUE=DATE:20250405
DTSTAMP:20260424T101449
CREATED:20250403T121240Z
LAST-MODIFIED:20250403T121240Z
UID:238254-1743724800-1743811199@colegiomigueldelibes.com
SUMMARY:Actividad Farmacéutica 2º EP
DESCRIPTION:Actividad Farmacéutica\n2º EP
URL:https://colegiomigueldelibes.com/calendario/actividad-farmaceutica-2o-ep/
CATEGORIES:Actividades,Información
END:VEVENT
BEGIN:VEVENT
DTSTART;VALUE=DATE:20250407
DTEND;VALUE=DATE:20250408
DTSTAMP:20260424T101449
CREATED:20250403T121330Z
LAST-MODIFIED:20250403T121330Z
UID:238256-1743984000-1744070399@colegiomigueldelibes.com
SUMMARY:Salida "MultiAventura" 3º EP
DESCRIPTION:Salida «MultiAventura»\n3º EP
URL:https://colegiomigueldelibes.com/calendario/salida-multiaventura-3o-ep/
CATEGORIES:Información,Salida
END:VEVENT
BEGIN:VEVENT
DTSTART;VALUE=DATE:20250422
DTEND;VALUE=DATE:20250423
DTSTAMP:20260424T101449
CREATED:20250403T121709Z
LAST-MODIFIED:20250403T122151Z
UID:238262-1745280000-1745366399@colegiomigueldelibes.com
SUMMARY:VUELTA A LAS CLASES
DESCRIPTION:VUELTA A LAS CLASES
URL:https://colegiomigueldelibes.com/calendario/__trashed/
CATEGORIES:DÍA LECTIVO,Información
END:VEVENT
BEGIN:VEVENT
DTSTART;VALUE=DATE:20250423
DTEND;VALUE=DATE:20250424
DTSTAMP:20260424T101449
CREATED:20250403T121552Z
LAST-MODIFIED:20250403T121654Z
UID:238260-1745366400-1745452799@colegiomigueldelibes.com
SUMMARY:CELEBRACIÓN DÍA DEL LIBRO: “DON QUIJOTE DE LA MANCHA”
DESCRIPTION:CELEBRACIÓN DÍA DEL LIBRO\nDON QUIJOTE DE LA MANCHA
URL:https://colegiomigueldelibes.com/calendario/vuelta-a-las-clases/
CATEGORIES:CELEBRACIÓN,Información
END:VEVENT
BEGIN:VEVENT
DTSTART;VALUE=DATE:20250425
DTEND;VALUE=DATE:20250426
DTSTAMP:20260424T101449
CREATED:20250403T122001Z
LAST-MODIFIED:20250403T122001Z
UID:238266-1745539200-1745625599@colegiomigueldelibes.com
SUMMARY:Salida "MultiAventura" 5º EP
DESCRIPTION:Salida «MultiAventura»\n5º EP
URL:https://colegiomigueldelibes.com/calendario/salida-multiaventura-5o-ep/
CATEGORIES:Información,Salida
END:VEVENT
BEGIN:VEVENT
DTSTART;VALUE=DATE:20250428
DTEND;VALUE=DATE:20250429
DTSTAMP:20260424T101449
CREATED:20250403T122046Z
LAST-MODIFIED:20250403T122046Z
UID:238268-1745798400-1745884799@colegiomigueldelibes.com
SUMMARY:Salida "TEATRO" 1º EP
DESCRIPTION:Salida «TEATRO»\n1º EP
URL:https://colegiomigueldelibes.com/calendario/salida-teatro-1o-ep/
CATEGORIES:Información,Salida
END:VEVENT
END:VCALENDAR