BEGIN:VCALENDAR
VERSION:2.0
PRODID:-//CEIP Miguel Delibes San Sebastián de los Reyes - ECPv6.15.20//NONSGML v1.0//EN
CALSCALE:GREGORIAN
METHOD:PUBLISH
X-WR-CALNAME:CEIP Miguel Delibes San Sebastián de los Reyes
X-ORIGINAL-URL:https://colegiomigueldelibes.com
X-WR-CALDESC:Eventos para CEIP Miguel Delibes San Sebastián de los Reyes
REFRESH-INTERVAL;VALUE=DURATION:PT1H
X-Robots-Tag:noindex
X-PUBLISHED-TTL:PT1H
BEGIN:VTIMEZONE
TZID:Europe/Madrid
BEGIN:DAYLIGHT
TZOFFSETFROM:+0100
TZOFFSETTO:+0200
TZNAME:CEST
DTSTART:20240331T010000
END:DAYLIGHT
BEGIN:STANDARD
TZOFFSETFROM:+0200
TZOFFSETTO:+0100
TZNAME:CET
DTSTART:20241027T010000
END:STANDARD
BEGIN:DAYLIGHT
TZOFFSETFROM:+0100
TZOFFSETTO:+0200
TZNAME:CEST
DTSTART:20250330T010000
END:DAYLIGHT
BEGIN:STANDARD
TZOFFSETFROM:+0200
TZOFFSETTO:+0100
TZNAME:CET
DTSTART:20251026T010000
END:STANDARD
BEGIN:DAYLIGHT
TZOFFSETFROM:+0100
TZOFFSETTO:+0200
TZNAME:CEST
DTSTART:20260329T010000
END:DAYLIGHT
BEGIN:STANDARD
TZOFFSETFROM:+0200
TZOFFSETTO:+0100
TZNAME:CET
DTSTART:20261025T010000
END:STANDARD
END:VTIMEZONE
BEGIN:VEVENT
DTSTART;VALUE=DATE:20251006
DTEND;VALUE=DATE:20251007
DTSTAMP:20260424T032052
CREATED:20251006T153849Z
LAST-MODIFIED:20251006T153849Z
UID:238382-1759708800-1759795199@colegiomigueldelibes.com
SUMMARY:Actividad Reptiles 1º a 3º EP
DESCRIPTION:Actividad Reptiles 1º a 3º EP
URL:https://colegiomigueldelibes.com/calendario/actividad-reptiles-1o-a-3o-ep/
CATEGORIES:Actividades,Información
END:VEVENT
BEGIN:VEVENT
DTSTART;VALUE=DATE:20251007
DTEND;VALUE=DATE:20251008
DTSTAMP:20260424T032052
CREATED:20251006T153926Z
LAST-MODIFIED:20251006T153926Z
UID:238384-1759795200-1759881599@colegiomigueldelibes.com
SUMMARY:Actividad Reptiles 4º a 6º EP
DESCRIPTION:Actividad Reptiles 4º a 6º EP
URL:https://colegiomigueldelibes.com/calendario/actividad-reptiles-4o-a-6o-ep/
CATEGORIES:Actividades,Información
END:VEVENT
BEGIN:VEVENT
DTSTART;VALUE=DATE:20251010
DTEND;VALUE=DATE:20251011
DTSTAMP:20260424T032052
CREATED:20251006T154039Z
LAST-MODIFIED:20251006T154048Z
UID:238386-1760054400-1760140799@colegiomigueldelibes.com
SUMMARY:Salida MERCAMADRID 6º EP A y B
DESCRIPTION:Salida MERCAMADRID 6º EP A y B
URL:https://colegiomigueldelibes.com/calendario/salida-mercamadrid-6o-ep-ay-b/
CATEGORIES:Actividades,Información,Salida
END:VEVENT
BEGIN:VEVENT
DTSTART;VALUE=DATE:20251014
DTEND;VALUE=DATE:20251015
DTSTAMP:20260424T032052
CREATED:20251006T154124Z
LAST-MODIFIED:20251006T154124Z
UID:238389-1760400000-1760486399@colegiomigueldelibes.com
SUMMARY:Salida MERCAMADRID 6º EP C y D
DESCRIPTION:Salida MERCAMADRID 6º EP C y D
URL:https://colegiomigueldelibes.com/calendario/salida-mercamadrid-6o-ep-c-y-d/
CATEGORIES:Actividades,Información,Salida
END:VEVENT
BEGIN:VEVENT
DTSTART;VALUE=DATE:20251015
DTEND;VALUE=DATE:20251016
DTSTAMP:20260424T032052
CREATED:20251006T154212Z
LAST-MODIFIED:20251006T154212Z
UID:238391-1760486400-1760572799@colegiomigueldelibes.com
SUMMARY:Salida Mañanas del Poli 5º EP
DESCRIPTION:Salida Mañanas del Poli 5º EP
URL:https://colegiomigueldelibes.com/calendario/salida-mananas-del-poli-5o-ep/
CATEGORIES:Actividades,Información,Salida
END:VEVENT
BEGIN:VEVENT
DTSTART;VALUE=DATE:20251016
DTEND;VALUE=DATE:20251017
DTSTAMP:20260424T032052
CREATED:20251006T154253Z
LAST-MODIFIED:20251006T154253Z
UID:238393-1760572800-1760659199@colegiomigueldelibes.com
SUMMARY:Salida Granja Escuela 2º EP
DESCRIPTION:Salida Granja Escuela 2º EP
URL:https://colegiomigueldelibes.com/calendario/salida-granja-escuela-2o-ep/
CATEGORIES:Actividades,Información,Salida
END:VEVENT
END:VCALENDAR