BEGIN:VCALENDAR
VERSION:2.0
PRODID:-//CEIP Miguel Delibes San Sebastián de los Reyes - ECPv6.15.20//NONSGML v1.0//EN
CALSCALE:GREGORIAN
METHOD:PUBLISH
X-WR-CALNAME:CEIP Miguel Delibes San Sebastián de los Reyes
X-ORIGINAL-URL:https://colegiomigueldelibes.com
X-WR-CALDESC:Eventos para CEIP Miguel Delibes San Sebastián de los Reyes
REFRESH-INTERVAL;VALUE=DURATION:PT1H
X-Robots-Tag:noindex
X-PUBLISHED-TTL:PT1H
BEGIN:VTIMEZONE
TZID:Europe/Madrid
BEGIN:DAYLIGHT
TZOFFSETFROM:+0100
TZOFFSETTO:+0200
TZNAME:CEST
DTSTART:20240331T010000
END:DAYLIGHT
BEGIN:STANDARD
TZOFFSETFROM:+0200
TZOFFSETTO:+0100
TZNAME:CET
DTSTART:20241027T010000
END:STANDARD
BEGIN:DAYLIGHT
TZOFFSETFROM:+0100
TZOFFSETTO:+0200
TZNAME:CEST
DTSTART:20250330T010000
END:DAYLIGHT
BEGIN:STANDARD
TZOFFSETFROM:+0200
TZOFFSETTO:+0100
TZNAME:CET
DTSTART:20251026T010000
END:STANDARD
BEGIN:DAYLIGHT
TZOFFSETFROM:+0100
TZOFFSETTO:+0200
TZNAME:CEST
DTSTART:20260329T010000
END:DAYLIGHT
BEGIN:STANDARD
TZOFFSETFROM:+0200
TZOFFSETTO:+0100
TZNAME:CET
DTSTART:20261025T010000
END:STANDARD
END:VTIMEZONE
BEGIN:VEVENT
DTSTART;VALUE=DATE:20250317
DTEND;VALUE=DATE:20250322
DTSTAMP:20260424T125735
CREATED:20250305T195117Z
LAST-MODIFIED:20250305T195117Z
UID:238205-1742169600-1742601599@colegiomigueldelibes.com
SUMMARY:AJEDREZ 5º EP
DESCRIPTION:AJEDREZ\n5º EP
URL:https://colegiomigueldelibes.com/calendario/ajedrez-5o-ep-3/
CATEGORIES:Actividades,Información
END:VEVENT
BEGIN:VEVENT
DTSTART;VALUE=DATE:20250317
DTEND;VALUE=DATE:20250322
DTSTAMP:20260424T125735
CREATED:20250305T195405Z
LAST-MODIFIED:20250305T195405Z
UID:238215-1742169600-1742601599@colegiomigueldelibes.com
SUMMARY:Animación a la Lectura 2T
DESCRIPTION:Animación a la Lectura 2T
URL:https://colegiomigueldelibes.com/calendario/animacion-a-la-lectura-2t-3/
CATEGORIES:Actividades,Información
END:VEVENT
BEGIN:VEVENT
DTSTART;VALUE=DATE:20250320
DTEND;VALUE=DATE:20250321
DTSTAMP:20260424T125735
CREATED:20250305T200712Z
LAST-MODIFIED:20250305T200712Z
UID:238237-1742428800-1742515199@colegiomigueldelibes.com
SUMMARY:ASAMBLEA DELEGADOS/AS 2ºT
DESCRIPTION:ASAMBLEA DELEGADOS/AS 2ºT
URL:https://colegiomigueldelibes.com/calendario/asamblea-delegados-as-2ot/
CATEGORIES:Actividades,Información
END:VEVENT
END:VCALENDAR