BEGIN:VCALENDAR
VERSION:2.0
PRODID:-//CEIP Miguel Delibes San Sebastián de los Reyes - ECPv6.15.20//NONSGML v1.0//EN
CALSCALE:GREGORIAN
METHOD:PUBLISH
X-WR-CALNAME:CEIP Miguel Delibes San Sebastián de los Reyes
X-ORIGINAL-URL:https://colegiomigueldelibes.com
X-WR-CALDESC:Eventos para CEIP Miguel Delibes San Sebastián de los Reyes
REFRESH-INTERVAL;VALUE=DURATION:PT1H
X-Robots-Tag:noindex
X-PUBLISHED-TTL:PT1H
BEGIN:VTIMEZONE
TZID:Europe/Madrid
BEGIN:DAYLIGHT
TZOFFSETFROM:+0100
TZOFFSETTO:+0200
TZNAME:CEST
DTSTART:20240331T010000
END:DAYLIGHT
BEGIN:STANDARD
TZOFFSETFROM:+0200
TZOFFSETTO:+0100
TZNAME:CET
DTSTART:20241027T010000
END:STANDARD
BEGIN:DAYLIGHT
TZOFFSETFROM:+0100
TZOFFSETTO:+0200
TZNAME:CEST
DTSTART:20250330T010000
END:DAYLIGHT
BEGIN:STANDARD
TZOFFSETFROM:+0200
TZOFFSETTO:+0100
TZNAME:CET
DTSTART:20251026T010000
END:STANDARD
BEGIN:DAYLIGHT
TZOFFSETFROM:+0100
TZOFFSETTO:+0200
TZNAME:CEST
DTSTART:20260329T010000
END:DAYLIGHT
BEGIN:STANDARD
TZOFFSETFROM:+0200
TZOFFSETTO:+0100
TZNAME:CET
DTSTART:20261025T010000
END:STANDARD
END:VTIMEZONE
BEGIN:VEVENT
DTSTART;TZID=Europe/Madrid:20251218T000000
DTEND;TZID=Europe/Madrid:20251218T235900
DTSTAMP:20260424T021113
CREATED:20251127T175102Z
LAST-MODIFIED:20251127T180823Z
UID:238500-1766016000-1766102340@colegiomigueldelibes.com
SUMMARY:FESTIVAL DE NAVIDAD 4º\, 5º y 6º EP
DESCRIPTION:FESTIVAL DE NAVIDAD\n4º\, 5º y 6º EP
URL:https://colegiomigueldelibes.com/calendario/festival-de-navidad-4o-5o-y-6o-ep-2/
CATEGORIES:Actividades,Información
END:VEVENT
END:VCALENDAR