BEGIN:VCALENDAR
VERSION:2.0
PRODID:-//CEIP Miguel Delibes San Sebastián de los Reyes - ECPv6.15.20//NONSGML v1.0//EN
CALSCALE:GREGORIAN
METHOD:PUBLISH
X-ORIGINAL-URL:https://colegiomigueldelibes.com
X-WR-CALDESC:Eventos para CEIP Miguel Delibes San Sebastián de los Reyes
REFRESH-INTERVAL;VALUE=DURATION:PT1H
X-Robots-Tag:noindex
X-PUBLISHED-TTL:PT1H
BEGIN:VTIMEZONE
TZID:Europe/Madrid
BEGIN:DAYLIGHT
TZOFFSETFROM:+0100
TZOFFSETTO:+0200
TZNAME:CEST
DTSTART:20250330T010000
END:DAYLIGHT
BEGIN:STANDARD
TZOFFSETFROM:+0200
TZOFFSETTO:+0100
TZNAME:CET
DTSTART:20251026T010000
END:STANDARD
BEGIN:DAYLIGHT
TZOFFSETFROM:+0100
TZOFFSETTO:+0200
TZNAME:CEST
DTSTART:20260329T010000
END:DAYLIGHT
BEGIN:STANDARD
TZOFFSETFROM:+0200
TZOFFSETTO:+0100
TZNAME:CET
DTSTART:20261025T010000
END:STANDARD
BEGIN:DAYLIGHT
TZOFFSETFROM:+0100
TZOFFSETTO:+0200
TZNAME:CEST
DTSTART:20270328T010000
END:DAYLIGHT
BEGIN:STANDARD
TZOFFSETFROM:+0200
TZOFFSETTO:+0100
TZNAME:CET
DTSTART:20271031T010000
END:STANDARD
END:VTIMEZONE
BEGIN:VEVENT
DTSTART;VALUE=DATE:20260303
DTEND;VALUE=DATE:20260304
DTSTAMP:20260423T224110
CREATED:20260302T103917Z
LAST-MODIFIED:20260302T103917Z
UID:238704-1772496000-1772582399@colegiomigueldelibes.com
SUMMARY:ACTIVIDAD ENCANTACUENTOS EI 3 y 4 AÑOS
DESCRIPTION:ACTIVIDAD ENCANTACUENTOS\nEI 3 y 4 AÑOS
URL:https://colegiomigueldelibes.com/calendario/actividad-encantacuentos-ei-3-y-4-anos/
CATEGORIES:Actividades,Información
END:VEVENT
BEGIN:VEVENT
DTSTART;VALUE=DATE:20260303
DTEND;VALUE=DATE:20260304
DTSTAMP:20260423T224110
CREATED:20260302T104118Z
LAST-MODIFIED:20260302T104118Z
UID:238706-1772496000-1772582399@colegiomigueldelibes.com
SUMMARY:ACTIVIDAD ESTIBI 1º EP y 2º A + 2º B EP
DESCRIPTION:ACTIVIDAD ESTIBI\n1º EP y 2º A + 2º B EP
URL:https://colegiomigueldelibes.com/calendario/actividad-estibi-1o-ep-y-2o-a-2o-b-ep/
CATEGORIES:Actividades,Información
END:VEVENT
END:VCALENDAR