BEGIN:VCALENDAR
VERSION:2.0
PRODID:-//CEIP Miguel Delibes San Sebastián de los Reyes - ECPv6.15.20//NONSGML v1.0//EN
CALSCALE:GREGORIAN
METHOD:PUBLISH
X-ORIGINAL-URL:https://colegiomigueldelibes.com
X-WR-CALDESC:Eventos para CEIP Miguel Delibes San Sebastián de los Reyes
REFRESH-INTERVAL;VALUE=DURATION:PT1H
X-Robots-Tag:noindex
X-PUBLISHED-TTL:PT1H
BEGIN:VTIMEZONE
TZID:Europe/Madrid
BEGIN:DAYLIGHT
TZOFFSETFROM:+0100
TZOFFSETTO:+0200
TZNAME:CEST
DTSTART:20230326T010000
END:DAYLIGHT
BEGIN:STANDARD
TZOFFSETFROM:+0200
TZOFFSETTO:+0100
TZNAME:CET
DTSTART:20231029T010000
END:STANDARD
BEGIN:DAYLIGHT
TZOFFSETFROM:+0100
TZOFFSETTO:+0200
TZNAME:CEST
DTSTART:20240331T010000
END:DAYLIGHT
BEGIN:STANDARD
TZOFFSETFROM:+0200
TZOFFSETTO:+0100
TZNAME:CET
DTSTART:20241027T010000
END:STANDARD
BEGIN:DAYLIGHT
TZOFFSETFROM:+0100
TZOFFSETTO:+0200
TZNAME:CEST
DTSTART:20250330T010000
END:DAYLIGHT
BEGIN:STANDARD
TZOFFSETFROM:+0200
TZOFFSETTO:+0100
TZNAME:CET
DTSTART:20251026T010000
END:STANDARD
END:VTIMEZONE
BEGIN:VEVENT
DTSTART;VALUE=DATE:20241104
DTEND;VALUE=DATE:20241105
DTSTAMP:20260424T114835
CREATED:20241104T101727Z
LAST-MODIFIED:20241104T101727Z
UID:237971-1730678400-1730764799@colegiomigueldelibes.com
SUMMARY:SALIDA mañanas del POLI 2ºA y 2ºB
DESCRIPTION:SALIDA mañanas del POLI\n2ºA y 2ºB
URL:https://colegiomigueldelibes.com/calendario/salida-mananas-del-poli-2oa-y-2ob/
CATEGORIES:Actividades,Salida
END:VEVENT
BEGIN:VEVENT
DTSTART;VALUE=DATE:20241105
DTEND;VALUE=DATE:20241106
DTSTAMP:20260424T114835
CREATED:20241104T101913Z
LAST-MODIFIED:20241104T101913Z
UID:237973-1730764800-1730851199@colegiomigueldelibes.com
SUMMARY:SALIDA mañanas del POLI - TALLERES FAMILIAS
DESCRIPTION:-SALIDA mañanas del POLI\n 2ºA y 2ºB\n-TALLERES con las familias\n  EI 4 AÑOS
URL:https://colegiomigueldelibes.com/calendario/salida-mananas-del-poli-talleres-familias/
CATEGORIES:Actividades,Salida
END:VEVENT
BEGIN:VEVENT
DTSTART;VALUE=DATE:20241107
DTEND;VALUE=DATE:20241108
DTSTAMP:20260424T114835
CREATED:20241104T102100Z
LAST-MODIFIED:20241104T102100Z
UID:237975-1730937600-1731023999@colegiomigueldelibes.com
SUMMARY:ACTIVIDAD MAGO CLIFF - SALIDA TEATRO
DESCRIPTION:-ACTIVIDAD MAGO CLIFF\n 1º y 2º EP\n\n-SALIDA TEATRO\n 4º EP
URL:https://colegiomigueldelibes.com/calendario/actividad-mago-cliff-salida-teatro/
CATEGORIES:Actividades,Salida
END:VEVENT
BEGIN:VEVENT
DTSTART;VALUE=DATE:20241112
DTEND;VALUE=DATE:20241113
DTSTAMP:20260424T114835
CREATED:20241104T102332Z
LAST-MODIFIED:20241104T102342Z
UID:237979-1731369600-1731455999@colegiomigueldelibes.com
SUMMARY:SALIDA TEATRO MARAVILLAS 5º EP
DESCRIPTION:SALIDA TEATRO MARAVILLASI\n5º EP
URL:https://colegiomigueldelibes.com/calendario/salida-teatro-maravillas-5o-ep/
CATEGORIES:Salida
END:VEVENT
BEGIN:VEVENT
DTSTART;VALUE=DATE:20241126
DTEND;VALUE=DATE:20241127
DTSTAMP:20260424T114835
CREATED:20241104T103136Z
LAST-MODIFIED:20241104T103136Z
UID:237990-1732579200-1732665599@colegiomigueldelibes.com
SUMMARY:SALIDA CASTILLO MANZANARES - SALIDA CARAMPA
DESCRIPTION:-SALIDA CASTILLO MANZANARESEL REAL\n EI 4 AÑOS\n\n– SALIDA CARAMPA\n EI 5 AÑOS A y B
URL:https://colegiomigueldelibes.com/calendario/salida-castillo-manzanares-salida-carampa/
CATEGORIES:Salida
END:VEVENT
BEGIN:VEVENT
DTSTART;VALUE=DATE:20241127
DTEND;VALUE=DATE:20241128
DTSTAMP:20260424T114835
CREATED:20241104T103237Z
LAST-MODIFIED:20241104T103237Z
UID:237992-1732665600-1732751999@colegiomigueldelibes.com
SUMMARY:SALIDA CARAMPA EI 5 AÑOS C y D
DESCRIPTION:SALIDA CARAMPA\nEI 5 AÑOS C y D
URL:https://colegiomigueldelibes.com/calendario/salida-carampa-ei-5-anos-c-y-d/
CATEGORIES:Salida
END:VEVENT
END:VCALENDAR