BEGIN:VCALENDAR
VERSION:2.0
PRODID:-//CEIP Miguel Delibes San Sebastián de los Reyes - ECPv6.15.20//NONSGML v1.0//EN
CALSCALE:GREGORIAN
METHOD:PUBLISH
X-WR-CALNAME:CEIP Miguel Delibes San Sebastián de los Reyes
X-ORIGINAL-URL:https://colegiomigueldelibes.com
X-WR-CALDESC:Eventos para CEIP Miguel Delibes San Sebastián de los Reyes
REFRESH-INTERVAL;VALUE=DURATION:PT1H
X-Robots-Tag:noindex
X-PUBLISHED-TTL:PT1H
BEGIN:VTIMEZONE
TZID:Europe/Madrid
BEGIN:DAYLIGHT
TZOFFSETFROM:+0100
TZOFFSETTO:+0200
TZNAME:CEST
DTSTART:20240331T010000
END:DAYLIGHT
BEGIN:STANDARD
TZOFFSETFROM:+0200
TZOFFSETTO:+0100
TZNAME:CET
DTSTART:20241027T010000
END:STANDARD
BEGIN:DAYLIGHT
TZOFFSETFROM:+0100
TZOFFSETTO:+0200
TZNAME:CEST
DTSTART:20250330T010000
END:DAYLIGHT
BEGIN:STANDARD
TZOFFSETFROM:+0200
TZOFFSETTO:+0100
TZNAME:CET
DTSTART:20251026T010000
END:STANDARD
BEGIN:DAYLIGHT
TZOFFSETFROM:+0100
TZOFFSETTO:+0200
TZNAME:CEST
DTSTART:20260329T010000
END:DAYLIGHT
BEGIN:STANDARD
TZOFFSETFROM:+0200
TZOFFSETTO:+0100
TZNAME:CET
DTSTART:20261025T010000
END:STANDARD
END:VTIMEZONE
BEGIN:VEVENT
DTSTART;VALUE=DATE:20250219
DTEND;VALUE=DATE:20250220
DTSTAMP:20260424T075305
CREATED:20250204T194030Z
LAST-MODIFIED:20250204T194030Z
UID:238104-1739923200-1740009599@colegiomigueldelibes.com
SUMMARY:Salida Talleres IES Atenea. 6º EP
DESCRIPTION:Salida Talleres IES Atenea – 6º EP
URL:https://colegiomigueldelibes.com/calendario/salida-talleres-ies-atenea-6o-ep/
CATEGORIES:Actividades,Información,Salida
END:VEVENT
BEGIN:VEVENT
DTSTART;VALUE=DATE:20250220
DTEND;VALUE=DATE:20250221
DTSTAMP:20260424T075305
CREATED:20250204T194117Z
LAST-MODIFIED:20250204T194117Z
UID:238106-1740009600-1740095999@colegiomigueldelibes.com
SUMMARY:Insect Park EI 5 años
DESCRIPTION:Insect Park EI 5 años
URL:https://colegiomigueldelibes.com/calendario/insect-park-ei-5-anos/
CATEGORIES:Actividades,Información,Salida
END:VEVENT
BEGIN:VEVENT
DTSTART;VALUE=DATE:20250225
DTEND;VALUE=DATE:20250226
DTSTAMP:20260424T075305
CREATED:20250204T194317Z
LAST-MODIFIED:20250204T194317Z
UID:238110-1740441600-1740527999@colegiomigueldelibes.com
SUMMARY:Salida Museo de Ciencias Naturales - 1º C y 1º D EP
DESCRIPTION:Salida Museo de Ciencias Naturales – 1º C y 1º D EP
URL:https://colegiomigueldelibes.com/calendario/salida-museo-de-ciencias-naturales-1o-c-y-1o-d-ep/
CATEGORIES:Actividades,Información,Salida
END:VEVENT
BEGIN:VEVENT
DTSTART;VALUE=DATE:20250226
DTEND;VALUE=DATE:20250227
DTSTAMP:20260424T075305
CREATED:20250204T194400Z
LAST-MODIFIED:20250204T194942Z
UID:238112-1740528000-1740614399@colegiomigueldelibes.com
SUMMARY:Salida Museo de Ciencias Naturales - 1º A y 1º B EP
DESCRIPTION:Salida Museo de Ciencias Naturales – 1º A y 1º B EP
URL:https://colegiomigueldelibes.com/calendario/salida-museo-de-ciencias-naturales-1o-b-y-1o-a-ep/
CATEGORIES:Actividades,Información,Salida
END:VEVENT
END:VCALENDAR