BEGIN:VCALENDAR
VERSION:2.0
PRODID:-//CEIP Miguel Delibes San Sebastián de los Reyes - ECPv6.15.20//NONSGML v1.0//EN
CALSCALE:GREGORIAN
METHOD:PUBLISH
X-ORIGINAL-URL:https://colegiomigueldelibes.com
X-WR-CALDESC:Eventos para CEIP Miguel Delibes San Sebastián de los Reyes
REFRESH-INTERVAL;VALUE=DURATION:PT1H
X-Robots-Tag:noindex
X-PUBLISHED-TTL:PT1H
BEGIN:VTIMEZONE
TZID:Europe/Madrid
BEGIN:DAYLIGHT
TZOFFSETFROM:+0100
TZOFFSETTO:+0200
TZNAME:CEST
DTSTART:20250330T010000
END:DAYLIGHT
BEGIN:STANDARD
TZOFFSETFROM:+0200
TZOFFSETTO:+0100
TZNAME:CET
DTSTART:20251026T010000
END:STANDARD
BEGIN:DAYLIGHT
TZOFFSETFROM:+0100
TZOFFSETTO:+0200
TZNAME:CEST
DTSTART:20260329T010000
END:DAYLIGHT
BEGIN:STANDARD
TZOFFSETFROM:+0200
TZOFFSETTO:+0100
TZNAME:CET
DTSTART:20261025T010000
END:STANDARD
BEGIN:DAYLIGHT
TZOFFSETFROM:+0100
TZOFFSETTO:+0200
TZNAME:CEST
DTSTART:20270328T010000
END:DAYLIGHT
BEGIN:STANDARD
TZOFFSETFROM:+0200
TZOFFSETTO:+0100
TZNAME:CET
DTSTART:20271031T010000
END:STANDARD
END:VTIMEZONE
BEGIN:VEVENT
DTSTART;VALUE=DATE:20260205
DTEND;VALUE=DATE:20260206
DTSTAMP:20260423T180238
CREATED:20260203T194017Z
LAST-MODIFIED:20260203T194017Z
UID:238678-1770249600-1770335999@colegiomigueldelibes.com
SUMMARY:SALIDA -MAÑANAS DEL POLI- 3ºA y 3ºB
DESCRIPTION:MAÑANAS DEL POLI\n3ºA y 3ºB
URL:https://colegiomigueldelibes.com/calendario/salida-mananas-del-poli-3oa-y-3ob/
CATEGORIES:Información,Salida
END:VEVENT
BEGIN:VEVENT
DTSTART;VALUE=DATE:20260210
DTEND;VALUE=DATE:20260211
DTSTAMP:20260423T180238
CREATED:20260203T194119Z
LAST-MODIFIED:20260203T194119Z
UID:238680-1770681600-1770767999@colegiomigueldelibes.com
SUMMARY:SALIDA -MAÑANAS DEL POLI- 3ºC y 3ºD EP
DESCRIPTION:MAÑANAS DEL POLI\n3ºC y 3ºD EP
URL:https://colegiomigueldelibes.com/calendario/salida-mananas-del-poli-3oc-y-3od-ep/
CATEGORIES:Información,Salida
END:VEVENT
BEGIN:VEVENT
DTSTART;VALUE=DATE:20260210
DTEND;VALUE=DATE:20260211
DTSTAMP:20260423T180238
CREATED:20260203T194216Z
LAST-MODIFIED:20260203T194216Z
UID:238682-1770681600-1770767999@colegiomigueldelibes.com
SUMMARY:SALIDA -TEATRO ALCOBENDAS- 2º EP
DESCRIPTION:TEATRO ALCOBENDAS\n2º EP
URL:https://colegiomigueldelibes.com/calendario/salida-teatro-alcobendas-2o-ep/
CATEGORIES:Información,Salida
END:VEVENT
BEGIN:VEVENT
DTSTART;VALUE=DATE:20260223
DTEND;VALUE=DATE:20260224
DTSTAMP:20260423T180238
CREATED:20260203T194725Z
LAST-MODIFIED:20260203T194725Z
UID:238691-1771804800-1771891199@colegiomigueldelibes.com
SUMMARY:SALIDA -MAÑANAS DEL POLI- 6ºA Y 6ºB EP
DESCRIPTION:MAÑANAS DEL POLI\n6ºA Y 6ºB EP
URL:https://colegiomigueldelibes.com/calendario/salida-mananas-del-poli-6oa-y-6ob-ep/
CATEGORIES:Información,Salida
END:VEVENT
BEGIN:VEVENT
DTSTART;VALUE=DATE:20260225
DTEND;VALUE=DATE:20260226
DTSTAMP:20260423T180238
CREATED:20260203T194816Z
LAST-MODIFIED:20260203T194816Z
UID:238693-1771977600-1772063999@colegiomigueldelibes.com
SUMMARY:SALIDA -MAÑANAS DEL POLI- 6ºC y 6ºD EP
DESCRIPTION:MAÑANAS DEL POLI\n6ºC y 6ºD EP
URL:https://colegiomigueldelibes.com/calendario/salida-mananas-del-poli-6oc-y-6od-ep/
CATEGORIES:Información,Salida
END:VEVENT
END:VCALENDAR