BEGIN:VCALENDAR
VERSION:2.0
PRODID:-//CEIP Miguel Delibes San Sebastián de los Reyes - ECPv6.15.20//NONSGML v1.0//EN
CALSCALE:GREGORIAN
METHOD:PUBLISH
X-WR-CALNAME:CEIP Miguel Delibes San Sebastián de los Reyes
X-ORIGINAL-URL:https://colegiomigueldelibes.com
X-WR-CALDESC:Eventos para CEIP Miguel Delibes San Sebastián de los Reyes
REFRESH-INTERVAL;VALUE=DURATION:PT1H
X-Robots-Tag:noindex
X-PUBLISHED-TTL:PT1H
BEGIN:VTIMEZONE
TZID:Europe/Madrid
BEGIN:DAYLIGHT
TZOFFSETFROM:+0100
TZOFFSETTO:+0200
TZNAME:CEST
DTSTART:20240331T010000
END:DAYLIGHT
BEGIN:STANDARD
TZOFFSETFROM:+0200
TZOFFSETTO:+0100
TZNAME:CET
DTSTART:20241027T010000
END:STANDARD
BEGIN:DAYLIGHT
TZOFFSETFROM:+0100
TZOFFSETTO:+0200
TZNAME:CEST
DTSTART:20250330T010000
END:DAYLIGHT
BEGIN:STANDARD
TZOFFSETFROM:+0200
TZOFFSETTO:+0100
TZNAME:CET
DTSTART:20251026T010000
END:STANDARD
BEGIN:DAYLIGHT
TZOFFSETFROM:+0100
TZOFFSETTO:+0200
TZNAME:CEST
DTSTART:20260329T010000
END:DAYLIGHT
BEGIN:STANDARD
TZOFFSETFROM:+0200
TZOFFSETTO:+0100
TZNAME:CET
DTSTART:20261025T010000
END:STANDARD
END:VTIMEZONE
BEGIN:VEVENT
DTSTART;VALUE=DATE:20251111
DTEND;VALUE=DATE:20251112
DTSTAMP:20260424T070938
CREATED:20251110T093653Z
LAST-MODIFIED:20251110T093909Z
UID:238418-1762819200-1762905599@colegiomigueldelibes.com
SUMMARY:TEATRO: El Principito EI - 3º y 4º EP
DESCRIPTION:OBRA DE TEATRO: EL PRINCIPITO Y LAS EMOCIONES\n-TODO EI\n-3º y 4º EP
URL:https://colegiomigueldelibes.com/calendario/teatro-el-principito-ei-3o-y-4o-ep/
CATEGORIES:Actividades,teatro
END:VEVENT
BEGIN:VEVENT
DTSTART;VALUE=DATE:20251112
DTEND;VALUE=DATE:20251113
DTSTAMP:20260424T070938
CREATED:20251110T093830Z
LAST-MODIFIED:20251110T093852Z
UID:238421-1762905600-1762991999@colegiomigueldelibes.com
SUMMARY:TEATRO: El Principito EI - 1º\, 2º\, 5º\, 6º EP
DESCRIPTION:OBRA DE TEATRO: EL PRINCIPITO Y LAS EMOCIONES\n 1º\, 2º\, 5º\, 6º EP
URL:https://colegiomigueldelibes.com/calendario/teatro-el-principito-ei-1o-2o-5o-6o-ep/
CATEGORIES:Actividades,teatro
END:VEVENT
END:VCALENDAR